BEGIN:VCALENDAR
VERSION:2.0
PRODID:-//Vino Over The Valley - ECPv6.15.20//NONSGML v1.0//EN
CALSCALE:GREGORIAN
METHOD:PUBLISH
X-WR-CALNAME:Vino Over The Valley
X-ORIGINAL-URL:https://vinooverthevalley.com
X-WR-CALDESC:Events for Vino Over The Valley
REFRESH-INTERVAL;VALUE=DURATION:PT1H
X-Robots-Tag:noindex
X-PUBLISHED-TTL:PT1H
BEGIN:VTIMEZONE
TZID:America/Chicago
BEGIN:DAYLIGHT
TZOFFSETFROM:-0600
TZOFFSETTO:-0500
TZNAME:CDT
DTSTART:20210314T080000
END:DAYLIGHT
BEGIN:STANDARD
TZOFFSETFROM:-0500
TZOFFSETTO:-0600
TZNAME:CST
DTSTART:20211107T070000
END:STANDARD
BEGIN:DAYLIGHT
TZOFFSETFROM:-0600
TZOFFSETTO:-0500
TZNAME:CDT
DTSTART:20220313T080000
END:DAYLIGHT
BEGIN:STANDARD
TZOFFSETFROM:-0500
TZOFFSETTO:-0600
TZNAME:CST
DTSTART:20221106T070000
END:STANDARD
BEGIN:DAYLIGHT
TZOFFSETFROM:-0600
TZOFFSETTO:-0500
TZNAME:CDT
DTSTART:20230312T080000
END:DAYLIGHT
BEGIN:STANDARD
TZOFFSETFROM:-0500
TZOFFSETTO:-0600
TZNAME:CST
DTSTART:20231105T070000
END:STANDARD
BEGIN:DAYLIGHT
TZOFFSETFROM:-0600
TZOFFSETTO:-0500
TZNAME:CDT
DTSTART:20240310T080000
END:DAYLIGHT
BEGIN:STANDARD
TZOFFSETFROM:-0500
TZOFFSETTO:-0600
TZNAME:CST
DTSTART:20241103T070000
END:STANDARD
END:VTIMEZONE
BEGIN:VTIMEZONE
TZID:UTC
BEGIN:STANDARD
TZOFFSETFROM:+0000
TZOFFSETTO:+0000
TZNAME:UTC
DTSTART:20170101T000000
END:STANDARD
END:VTIMEZONE
BEGIN:VEVENT
DTSTART;VALUE=DATE:20230630
DTEND;VALUE=DATE:20230703
DTSTAMP:20260421T184207
CREATED:20230216T154413Z
LAST-MODIFIED:20230216T155254Z
UID:10000121-1688083200-1688342399@vinooverthevalley.com
SUMMARY:Open to Public
DESCRIPTION:
URL:https://vinooverthevalley.com/event/open-to-public/2023-06-30/
CATEGORIES:Public
END:VEVENT
BEGIN:VEVENT
DTSTART;VALUE=DATE:20230623
DTEND;VALUE=DATE:20230626
DTSTAMP:20260421T184207
CREATED:20230216T153041Z
LAST-MODIFIED:20230611T190752Z
UID:10000107-1687478400-1687737599@vinooverthevalley.com
SUMMARY:Open to Public
DESCRIPTION:
URL:https://vinooverthevalley.com/event/closed-for-private-events/2023-06-23/
CATEGORIES:Public
END:VEVENT
BEGIN:VEVENT
DTSTART;VALUE=DATE:20230616
DTEND;VALUE=DATE:20230619
DTSTAMP:20260421T184207
CREATED:20230216T154413Z
LAST-MODIFIED:20230216T155254Z
UID:10000120-1686873600-1687132799@vinooverthevalley.com
SUMMARY:Open to Public
DESCRIPTION:
URL:https://vinooverthevalley.com/event/open-to-public/2023-06-16/
CATEGORIES:Public
END:VEVENT
BEGIN:VEVENT
DTSTART;VALUE=DATE:20230609
DTEND;VALUE=DATE:20230612
DTSTAMP:20260421T184207
CREATED:20230216T153041Z
LAST-MODIFIED:20230611T190752Z
UID:10000106-1686268800-1686527999@vinooverthevalley.com
SUMMARY:Open to Public
DESCRIPTION:
URL:https://vinooverthevalley.com/event/closed-for-private-events/2023-06-09/
CATEGORIES:Public
END:VEVENT
BEGIN:VEVENT
DTSTART;VALUE=DATE:20230602
DTEND;VALUE=DATE:20230605
DTSTAMP:20260421T184207
CREATED:20230216T154413Z
LAST-MODIFIED:20230216T155254Z
UID:10000119-1685664000-1685923199@vinooverthevalley.com
SUMMARY:Open to Public
DESCRIPTION:
URL:https://vinooverthevalley.com/event/open-to-public/2023-06-02/
CATEGORIES:Public
END:VEVENT
BEGIN:VEVENT
DTSTART;VALUE=DATE:20230526
DTEND;VALUE=DATE:20230529
DTSTAMP:20260421T184207
CREATED:20230313T202156Z
LAST-MODIFIED:20230313T202156Z
UID:10000186-1685059200-1685318399@vinooverthevalley.com
SUMMARY:Open to Public
DESCRIPTION:
URL:https://vinooverthevalley.com/event/open-to-public-4/
CATEGORIES:Public
END:VEVENT
BEGIN:VEVENT
DTSTART;VALUE=DATE:20230519
DTEND;VALUE=DATE:20230522
DTSTAMP:20260421T184207
CREATED:20230216T154413Z
LAST-MODIFIED:20230216T155254Z
UID:10000118-1684454400-1684713599@vinooverthevalley.com
SUMMARY:Open to Public
DESCRIPTION:
URL:https://vinooverthevalley.com/event/open-to-public/2023-05-19/
CATEGORIES:Public
END:VEVENT
BEGIN:VEVENT
DTSTART;VALUE=DATE:20230512
DTEND;VALUE=DATE:20230515
DTSTAMP:20260421T184207
CREATED:20230313T201635Z
LAST-MODIFIED:20230313T202036Z
UID:10000185-1683849600-1684108799@vinooverthevalley.com
SUMMARY:Open to Public
DESCRIPTION:
URL:https://vinooverthevalley.com/event/open-to-public-3/
CATEGORIES:Public
END:VEVENT
BEGIN:VEVENT
DTSTART;VALUE=DATE:20230505
DTEND;VALUE=DATE:20230508
DTSTAMP:20260421T184207
CREATED:20230216T154413Z
LAST-MODIFIED:20230216T155254Z
UID:10000117-1683244800-1683503999@vinooverthevalley.com
SUMMARY:Open to Public
DESCRIPTION:
URL:https://vinooverthevalley.com/event/open-to-public/2023-05-05/
CATEGORIES:Public
END:VEVENT
BEGIN:VEVENT
DTSTART;TZID=America/Chicago:20220924T170000
DTEND;TZID=America/Chicago:20220924T200000
DTSTAMP:20260421T184207
CREATED:20220922T153151Z
LAST-MODIFIED:20220922T153151Z
UID:10000105-1664038800-1664049600@vinooverthevalley.com
SUMMARY:Christian Timm
DESCRIPTION:Entertainment by Christian Timm
URL:https://vinooverthevalley.com/event/christian-timm/
ATTACH;FMTTYPE=image/jpeg:https://vinooverthevalley.com/wp-content/uploads/2018/08/VOTV-2018-6682FB.jpg
END:VEVENT
BEGIN:VEVENT
DTSTART;TZID=America/Chicago:20220923T170000
DTEND;TZID=America/Chicago:20220923T200000
DTSTAMP:20260421T184207
CREATED:20220922T153016Z
LAST-MODIFIED:20220922T153016Z
UID:10000104-1663952400-1663963200@vinooverthevalley.com
SUMMARY:Blondie Blue
DESCRIPTION:Entertainment by Blondie Blue
URL:https://vinooverthevalley.com/event/blondie-blue/
ATTACH;FMTTYPE=image/jpeg:https://vinooverthevalley.com/wp-content/uploads/2019/05/Blondie-Blue-Duo.jpg
END:VEVENT
BEGIN:VEVENT
DTSTART;TZID=UTC:20180617T110000
DTEND;TZID=UTC:20180617T170000
DTSTAMP:20260421T184207
CREATED:20180512T012153Z
LAST-MODIFIED:20180613T173654Z
UID:10000103-1529233200-1529254800@vinooverthevalley.com
SUMMARY:Father's Day at Vino Over the Valley
DESCRIPTION:What better way to celebrate Dad than an afternoon at Vino Over the Valley? Great food\, great drink\, and a great time! \nEnjoy our Steak Special! Sirloin\, Hanger\, or Flat Iron for $18.99…comes with a side salad\, zucchini au gratin\, and baby red potatoes. Plus\, free dessert for dad! \nMusic entertainment by Tim Fast from 12:30 to 3:30!
URL:https://vinooverthevalley.com/event/tim-fast-2/
ATTACH;FMTTYPE=image/png:https://vinooverthevalley.com/wp-content/uploads/2018/05/VOTV-Fathers-Day-FB-Event-06-18-1.png
END:VEVENT
END:VCALENDAR